BEGIN:VCALENDAR
VERSION:2.0
PRODID:-//RehaCare - ECPv6.15.20//NONSGML v1.0//EN
CALSCALE:GREGORIAN
METHOD:PUBLISH
X-ORIGINAL-URL:https://www.rehacare.com.au
X-WR-CALDESC:Events for RehaCare
REFRESH-INTERVAL;VALUE=DURATION:PT1H
X-Robots-Tag:noindex
X-PUBLISHED-TTL:PT1H
BEGIN:VTIMEZONE
TZID:Pacific/Auckland
BEGIN:STANDARD
TZOFFSETFROM:+1300
TZOFFSETTO:+1200
TZNAME:NZST
DTSTART:20250405T140000
END:STANDARD
BEGIN:DAYLIGHT
TZOFFSETFROM:+1200
TZOFFSETTO:+1300
TZNAME:NZDT
DTSTART:20250927T140000
END:DAYLIGHT
BEGIN:STANDARD
TZOFFSETFROM:+1300
TZOFFSETTO:+1200
TZNAME:NZST
DTSTART:20260404T140000
END:STANDARD
BEGIN:DAYLIGHT
TZOFFSETFROM:+1200
TZOFFSETTO:+1300
TZNAME:NZDT
DTSTART:20260926T140000
END:DAYLIGHT
BEGIN:STANDARD
TZOFFSETFROM:+1300
TZOFFSETTO:+1200
TZNAME:NZST
DTSTART:20270403T140000
END:STANDARD
BEGIN:DAYLIGHT
TZOFFSETFROM:+1200
TZOFFSETTO:+1300
TZNAME:NZDT
DTSTART:20270925T140000
END:DAYLIGHT
END:VTIMEZONE
BEGIN:VTIMEZONE
TZID:Australia/Sydney
BEGIN:STANDARD
TZOFFSETFROM:+1100
TZOFFSETTO:+1000
TZNAME:AEST
DTSTART:20250405T160000
END:STANDARD
BEGIN:DAYLIGHT
TZOFFSETFROM:+1000
TZOFFSETTO:+1100
TZNAME:AEDT
DTSTART:20251004T160000
END:DAYLIGHT
BEGIN:STANDARD
TZOFFSETFROM:+1100
TZOFFSETTO:+1000
TZNAME:AEST
DTSTART:20260404T160000
END:STANDARD
BEGIN:DAYLIGHT
TZOFFSETFROM:+1000
TZOFFSETTO:+1100
TZNAME:AEDT
DTSTART:20261003T160000
END:DAYLIGHT
BEGIN:STANDARD
TZOFFSETFROM:+1100
TZOFFSETTO:+1000
TZNAME:AEST
DTSTART:20270403T160000
END:STANDARD
BEGIN:DAYLIGHT
TZOFFSETFROM:+1000
TZOFFSETTO:+1100
TZNAME:AEDT
DTSTART:20271002T160000
END:DAYLIGHT
END:VTIMEZONE
BEGIN:VEVENT
DTSTART;TZID=Pacific/Auckland:20260725T083000
DTEND;TZID=Pacific/Auckland:20260725T180000
DTSTAMP:20260422T113338
CREATED:20260122T023015Z
LAST-MODIFIED:20260127T224339Z
UID:55309-1784968200-1785002400@www.rehacare.com.au
SUMMARY:Hands-On Masterclass : Low Level Laser Therapy for Pain & Common Injuries (NZ)
DESCRIPTION:Seminar: Low-Level Laser Therapy for Pain & Common Injuries (Auckland)\n\n				\n					\n				\n		\n					\n				\n																														\n					\n				\n		\n				\n							\n							\n											\n													\n										16 August 2025 (Saturday)\n									\n								\n											\n													\n										8:30am - 6:00pm \n									\n								\n											\n\n												\n													\n										Rydges Auckland\,59 Federal Street\, Auckland 1010\, New Zealand\n											\n									\n								\n											\n													\n										Full Registration: $265\n									\n								\n											\n													\n										Limited 20 spots available.\n									\n						\n						\n				\n		\n					\n				\n									Earn 8 CPD hours. Certificate of completion will be provided. 								\n					\n				\n		\n					\n				\n							\n			\n						\n		\n						\n					\n				\n		\n					\n		\n				\n									Event Tickets – Register Now								\n		\n		\n		\n				\n							\n			\n						\n		\n						\n				\n									Standard Ticket – $265Get general admission to the full day session 								\n				\n										\n						\n									Buy Ticket\n					\n					\n								\n				\n		\n				\n							\n			\n						\n		\n						\n				\n									Group Ticket – $675Save $40 per person for booking of 3 or more. 								\n				\n										\n						\n									Buy Ticket\n					\n					\n								\n				\n				\n				\n				\n					\n				\n		\n					\n				\n							\n			\n						\n		\n						\n					\n				\n		\n					\n		\n				\n									About the CourseChronic pain\, movement dysfunction\, and stubborn injuries remain some of the most common—and often frustrating—presentations for Allied Health Professionals. While many clinicians use Low-Level laser therapy (LLLT) or also known as Photobiomodulation therapy (PBMT)\, there’s still confusion about: Is there a real difference between lasers and LEDs in PBMT?Does power matter—when is high-power vs low-level laser more effective?Do different wavelengths (red\, green\, violet\, infrared) produce the same outcomes?This seminar is designed to cut through the noise and bring clarity to the science behind Low-Level Laser Therapy (LLLT)\, giving you the clinical reasoning and hands-on tools to treat chronic pain\, musculoskeletal injuries & neurological dysfunctions more effectively—without relying solely on pre-set protocols. 								\n				\n									Meet the Presenter\n\nBrett Jarosz\n\n 	ACA endorsed Fellow Sports & Exercise Chiropractor (AICE 2019)\n 	Neurorehabilitation Chriopractor (AICE 2022)\n 	Researcher and international lecturer\n\nHe works with the World Surf League\, as a part of the medical team at the Rip Curl Pro Bells Beach. He consults with several AFL teams\, Olympic and elite athletes on neurotrauma\, with his work being featured on 60 Minutes Australia\, Apple TV\, The Age\, Herald Sun\, and more. \nFor the past decade\, Brett lectured within the Chiropractic degrees at RMIT University in Melbourne\, and currently maintains a role as a lecturer for a number of post-graduate education programs. 								\n				\n		\n				\n									ProgramYou’ll gain a deep understanding of how and why LLLT works—from mitochondrial function to wavelength specificity—and how to integrate it confidently into your pain and injury management toolkit. Led by Dr. Brett Jarosz\, this full-day workshop will focus on evidence-based strategies to support better outcomes in patients with: OsteoarthritisCarpal Tunnel SyndromePlantar FasciitisOnychomycosisNeck & Low Back PainPeripheral NeuropathyScar TissuePost-Surgical Pain & InflammationChronic Musculoskeletal InjuriesBalance/Postural ControlMyalgic Encephalomyelitis / Chronic Fatigue SyndromeConcussion / Post-Concussive SymptomsAdvanced Brain & Vagal StimulationJoin us for an exclusive day of learning designed specifically for Allied Health Professionals. This hands-on workshop offers an integrative approach to diagnosing\, treating\, and understanding a wide range of conditions using Low-Level Laser Therapy (LLLT) 								\n				\n										\n						\n									Download Agenda\n					\n					\n								\n				\n									Who Should Attend?Perfect for Chiropractors\, Physiotherapists\, Osteopaths\, Podiatrists\, GPs\, and Allied Health Practitioners who want to: Stay ahead with advanced technology and modern treatment techniquesEnhance clinical confidence and treatment outcomesDiscover evidence-based adjuncts to traditional pain managementIntegrate non-invasive\, low-risk tools that patients will loveWhether you’re looking to sharpen your skills or bring innovation into your practice\, this seminar delivers practical value you can apply immediately.
URL:https://www.rehacare.com.au/event/hands-on-masterclass-low-level-laser-therapy-for-pain-common-injuries-nz/
CATEGORIES:Seminars
ATTACH;FMTTYPE=image/png:https://www.rehacare.com.au/wp-content/uploads/2026/01/Untitled-1366-x-693-px.png
END:VEVENT
BEGIN:VEVENT
DTSTART;TZID=Australia/Sydney:20260919T083000
DTEND;TZID=Australia/Sydney:20260919T180000
DTSTAMP:20260422T113339
CREATED:20260122T222611Z
LAST-MODIFIED:20260122T225855Z
UID:55337-1789806600-1789840800@www.rehacare.com.au
SUMMARY:Hands-On Masterclass : Low Level Laser Therapy for Pain & Common Injuries (NSW)
DESCRIPTION:Seminar: Low-Level Laser Therapy for Pain & Common Injuries (Auckland)\n\n				\n					\n				\n		\n					\n				\n																														\n					\n				\n		\n				\n							\n							\n											\n													\n										16 August 2025 (Saturday)\n									\n								\n											\n													\n										8:30am - 6:00pm \n									\n								\n											\n\n												\n													\n										Rydges Auckland\,59 Federal Street\, Auckland 1010\, New Zealand\n											\n									\n								\n											\n													\n										Full Registration: $265\n									\n								\n											\n													\n										Limited 20 spots available.\n									\n						\n						\n				\n		\n					\n				\n									Earn 8 CPD hours. Certificate of completion will be provided. 								\n					\n				\n		\n					\n				\n							\n			\n						\n		\n						\n					\n				\n		\n					\n		\n				\n									Event Tickets – Register Now								\n		\n		\n		\n				\n							\n			\n						\n		\n						\n				\n									Standard Ticket – $265Get general admission to the full day session 								\n				\n										\n						\n									Buy Ticket\n					\n					\n								\n				\n		\n				\n							\n			\n						\n		\n						\n				\n									Group Ticket – $675Save $40 per person for booking of 3 or more. 								\n				\n										\n						\n									Buy Ticket\n					\n					\n								\n				\n				\n				\n				\n					\n				\n		\n					\n				\n							\n			\n						\n		\n						\n					\n				\n		\n					\n		\n				\n									About the CourseChronic pain\, movement dysfunction\, and stubborn injuries remain some of the most common—and often frustrating—presentations for Allied Health Professionals. While many clinicians use Low-Level laser therapy (LLLT) or also known as Photobiomodulation therapy (PBMT)\, there’s still confusion about: Is there a real difference between lasers and LEDs in PBMT?Does power matter—when is high-power vs low-level laser more effective?Do different wavelengths (red\, green\, violet\, infrared) produce the same outcomes?This seminar is designed to cut through the noise and bring clarity to the science behind Low-Level Laser Therapy (LLLT)\, giving you the clinical reasoning and hands-on tools to treat chronic pain\, musculoskeletal injuries & neurological dysfunctions more effectively—without relying solely on pre-set protocols. 								\n				\n									Meet the Presenter\n\nBrett Jarosz\n\n 	ACA endorsed Fellow Sports & Exercise Chiropractor (AICE 2019)\n 	Neurorehabilitation Chriopractor (AICE 2022)\n 	Researcher and international lecturer\n\nHe works with the World Surf League\, as a part of the medical team at the Rip Curl Pro Bells Beach. He consults with several AFL teams\, Olympic and elite athletes on neurotrauma\, with his work being featured on 60 Minutes Australia\, Apple TV\, The Age\, Herald Sun\, and more. \nFor the past decade\, Brett lectured within the Chiropractic degrees at RMIT University in Melbourne\, and currently maintains a role as a lecturer for a number of post-graduate education programs. 								\n				\n		\n				\n									ProgramYou’ll gain a deep understanding of how and why LLLT works—from mitochondrial function to wavelength specificity—and how to integrate it confidently into your pain and injury management toolkit. Led by Dr. Brett Jarosz\, this full-day workshop will focus on evidence-based strategies to support better outcomes in patients with: OsteoarthritisCarpal Tunnel SyndromePlantar FasciitisOnychomycosisNeck & Low Back PainPeripheral NeuropathyScar TissuePost-Surgical Pain & InflammationChronic Musculoskeletal InjuriesBalance/Postural ControlMyalgic Encephalomyelitis / Chronic Fatigue SyndromeConcussion / Post-Concussive SymptomsAdvanced Brain & Vagal StimulationJoin us for an exclusive day of learning designed specifically for Allied Health Professionals. This hands-on workshop offers an integrative approach to diagnosing\, treating\, and understanding a wide range of conditions using Low-Level Laser Therapy (LLLT) 								\n				\n										\n						\n									Download Agenda\n					\n					\n								\n				\n									Who Should Attend?Perfect for Chiropractors\, Physiotherapists\, Osteopaths\, Podiatrists\, GPs\, and Allied Health Practitioners who want to: Stay ahead with advanced technology and modern treatment techniquesEnhance clinical confidence and treatment outcomesDiscover evidence-based adjuncts to traditional pain managementIntegrate non-invasive\, low-risk tools that patients will loveWhether you’re looking to sharpen your skills or bring innovation into your practice\, this seminar delivers practical value you can apply immediately.
URL:https://www.rehacare.com.au/event/hands-on-masterclass-low-level-laser-therapy-for-pain-common-injuries-nsw/
CATEGORIES:Seminars
ATTACH;FMTTYPE=image/png:https://www.rehacare.com.au/wp-content/uploads/2026/01/Add-a-subheading-1366-x-693-px-Presentation-1.png
END:VEVENT
END:VCALENDAR